BEGIN:VCALENDAR
VERSION:2.0
PRODID:-//wp-events-plugin.com//6.6.4.4//EN
TZID:Europe/Paris
X-WR-TIMEZONE:Europe/Paris
BEGIN:VEVENT
UID:70@ledefidutraict.fr
DTSTART:20150714T080000Z
DTEND:20150714T170000Z
DTSTAMP:20150525T215324Z
URL:http://www.ledefidutraict.fr/events/a-voile-et-a-vapeur-a-peillac-redo
 n/
SUMMARY:A voile et a vapeur à Peillac (Redon)
DESCRIPTION:Festival "A voile et a vapeur" à Peillac\n\nLa yole sera sur p
 lace après la nav itinérante.\n\nPlus d'infos prochainement (horaires &a
 mp\; programme précis).
CATEGORIES:Manifestation
END:VEVENT
END:VCALENDAR