BEGIN:VCALENDAR
VERSION:2.0
PRODID:-//wp-events-plugin.com//6.6.4.4//EN
TZID:Europe/Paris
X-WR-TIMEZONE:Europe/Paris
BEGIN:VEVENT
UID:88@ledefidutraict.fr
DTSTART:20151121T160000Z
DTEND:20151121T183000Z
DTSTAMP:20151014T190021Z
URL:http://www.ledefidutraict.fr/events/assemblee-generale-2/
SUMMARY:Assemblée Générale
DESCRIPTION:L'assemblée générale aura lieu le samedi 21 novembre à 17 
 h au Belem\n\nTous les adhérents sont invités à participer à ce moment
  fort de notre association.\n\nPour ceux qui le souhaitent\, l'AG sera sui
 vi du repas annuel de l'association.
CATEGORIES:Réunion
END:VEVENT
END:VCALENDAR