BEGIN:VCALENDAR
VERSION:2.0
PRODID:-//wp-events-plugin.com//6.6.4.4//EN
TZID:Europe/Paris
X-WR-TIMEZONE:Europe/Paris
BEGIN:VEVENT
UID:125@ledefidutraict.fr
DTSTART:20160408T193000Z
DTEND:20160408T203000Z
DTSTAMP:20160407T170803Z
URL:http://www.ledefidutraict.fr/events/assemblee-generale-extraordinaire/
SUMMARY:Assemblée Générale extraordinaire
DESCRIPTION:Vous êtes invités à participer à l'AG extraordinaire du 8 a
 vril 2016 afin de modifier les statuts dans le but de déposer un dossier 
 pour être reconnu comme association d'intérêt général.\n\nVotre parti
 cipation est indispensable afin d'atteindre le quorum.\n\nSi vous ne pouve
 z pas être présent\, un pouvoir\, à remettre à un adhérent de votre c
 hoix sera prochainement disponible.\n\nOn compte sur votre présence !
CATEGORIES:Réunion
END:VEVENT
END:VCALENDAR