BEGIN:VCALENDAR
VERSION:2.0
PRODID:-//wp-events-plugin.com//6.6.4.4//EN
TZID:Europe/Paris
X-WR-TIMEZONE:Europe/Paris
BEGIN:VEVENT
UID:272@ledefidutraict.fr
DTSTART:20190407T140000Z
DTEND:20190407T163000Z
DTSTAMP:20190405T173627Z
URL:http://www.ledefidutraict.fr/events/atelier-identifier-les-oiseaux-et-
 mammiferes-marins-en-navigation-2/
SUMMARY:ANNULÉ ! Atelier « Identifier les oiseaux et mammifères marins 
 en navigation »
DESCRIPTION:Faute de participant\, l'atelier est annulé !\nMesquer\, salle
  de la gambade\, 15h - 17h30\nParticipation de 10 € ( 5 € pour les adh
 érents)\n\n\n 	le matériel d'observation (les différents types de jumel
 les\, les guides d'identification)\n 	identifier les familles\, le genre e
 t les espèces d'oiseaux\n 	les critères d'identification (aspect physiqu
 e\, comportement\, vol\, etc.)\n 	Les mammifères marins de Bretagne sud\n
  	Transmettre ses observations remarquables\n\n
CATEGORIES:Atelier
END:VEVENT
END:VCALENDAR