BEGIN:VCALENDAR
VERSION:2.0
PRODID:-//wp-events-plugin.com//6.6.4.4//EN
TZID:Europe/Paris
X-WR-TIMEZONE:Europe/Paris
BEGIN:VEVENT
UID:273@ledefidutraict.fr
DTSTART:20190317T140000Z
DTEND:20190317T163000Z
DTSTAMP:20190313T114027Z
URL:http://www.ledefidutraict.fr/events/atelier-initiation-au-calcul-des-m
 arees-3/
SUMMARY:Atelier « Initiation au calcul des marées » - Annulé
DESCRIPTION:L'atelier est annulé !\nMesquer\, salle de la gambade\, 15h - 
 17h30\nExplication du phénomène des marées et apprendre à faire un cal
 cul de marée pour effectuer un mouillage sûr. Exercices pratiques après
  la présentation théorique.\nParticipation de 10 € pour les non-adhér
 ents\, 5 € pour les adhérents (20 places disponibles)\n\n
CATEGORIES:Atelier
END:VEVENT
END:VCALENDAR