BEGIN:VCALENDAR
VERSION:2.0
PRODID:-//wp-events-plugin.com//6.6.4.4//EN
TZID:Europe/Paris
X-WR-TIMEZONE:Europe/Paris
BEGIN:VEVENT
UID:98@ledefidutraict.fr
DTSTART:20160110T130000Z
DTEND:20160110T170000Z
DTSTAMP:20160109T183958Z
URL:http://www.ledefidutraict.fr/events/carenage-yole/
SUMMARY:Carénage yole
DESCRIPTION:Séance annulée !\nTravaux d'entretien hivernal\n\nRDV à 14h0
 0 aux ateliers.\n\nPour tout renseignement : Pierre Grandpré - pierre.g
 randpre@gmail.com ou 06 23 92 40 69
CATEGORIES:Navigation annulée
END:VEVENT
END:VCALENDAR