BEGIN:VCALENDAR
VERSION:2.0
PRODID:-//wp-events-plugin.com//6.6.4.4//EN
TZID:Europe/Paris
X-WR-TIMEZONE:Europe/Paris
BEGIN:VEVENT
UID:315@ledefidutraict.fr
DTSTART:20191019T090000Z
DTEND:20191019T110000Z
DTSTAMP:20191007T133641Z
URL:http://www.ledefidutraict.fr/events/conseil-dadministration-38/
SUMMARY:Conseil d'administration
DESCRIPTION:Conseil d'administration à 10h00 au Belem (Quimiac)\n\nOrdre d
 u jour :\n\n 	Débrief fete de la mer\n 	Hivernage\n 	Projet 2020\n 	Diver
 s\n\nRappel : les CA sont ouverts à tous les adhérents
CATEGORIES:Réunion
END:VEVENT
END:VCALENDAR