BEGIN:VCALENDAR
VERSION:2.0
PRODID:-//wp-events-plugin.com//6.6.4.4//EN
TZID:Europe/Paris
X-WR-TIMEZONE:Europe/Paris
BEGIN:VEVENT
UID:453@ledefidutraict.fr
DTSTART;TZID=Europe/Paris:20221203T100000
DTEND;TZID=Europe/Paris:20221203T120000
DTSTAMP:20220919T174151Z
URL:http://www.ledefidutraict.fr/events/conseil-dadministration-55/
SUMMARY:Conseil d'administration
DESCRIPTION:Conseil d'administration à 10h00 à "l'atelier de Fred" ZA de 
 Kergoulinet à Mesquer (derrière la caserne des pompiers).\n\nLes CA sont
  ouverts à tous les adhérents.
CATEGORIES:Réunion
END:VEVENT
BEGIN:VTIMEZONE
TZID:Europe/Paris
X-LIC-LOCATION:Europe/Paris
BEGIN:STANDARD
DTSTART:20221030T020000
TZOFFSETFROM:+0200
TZOFFSETTO:+0100
TZNAME:CET
END:STANDARD
END:VTIMEZONE
END:VCALENDAR