BEGIN:VCALENDAR
VERSION:2.0
PRODID:-//wp-events-plugin.com//6.6.4.4//EN
TZID:Europe/Paris
X-WR-TIMEZONE:Europe/Paris
BEGIN:VEVENT
UID:26@ledefidutraict.fr
DTSTART:20141212T193000Z
DTEND:20141212T210000Z
DTSTAMP:20141210T215920Z
URL:http://www.ledefidutraict.fr/events/conseil-dadministration-7/
SUMMARY:Conseil d'administration (Reporté)
DESCRIPTION:Le CA est reporté au mois de janvier
CATEGORIES:Réunion
END:VEVENT
END:VCALENDAR