BEGIN:VCALENDAR
VERSION:2.0
PRODID:-//wp-events-plugin.com//6.6.4.4//EN
TZID:Europe/Paris
X-WR-TIMEZONE:Europe/Paris
BEGIN:VEVENT
UID:1@ledefidutraict.fr
DTSTART:20140712T071500Z
DTEND:20140712T210000Z
DTSTAMP:20140708T201556Z
URL:http://www.ledefidutraict.fr/events/fete-du-grand-norven-2/
SUMMARY:Fête du Grand Norven
DESCRIPTION:RDV à Merquel à 8h15 pour un embarquement au plus tard à 8h3
 0\n\nNavigation jusqu'a Dumet\, pique-nique avec les autres bateaux (prév
 oir pique-nique)\, retour en fin de journée à Piriac. Repas offert le so
 ir et concert.\n\nChef de Bord : Jean-Christophe
CATEGORIES:Manifestation
END:VEVENT
END:VCALENDAR