BEGIN:VCALENDAR
VERSION:2.0
PRODID:-//wp-events-plugin.com//6.6.4.4//EN
TZID:Europe/Paris
X-WR-TIMEZONE:Europe/Paris
BEGIN:VEVENT
UID:184@ledefidutraict.fr
DTSTART:20170722T080000Z
DTEND:20170722T190000Z
DTSTAMP:20170719T060449Z
URL:http://www.ledefidutraict.fr/events/fete-du-grand-norven-3/
SUMMARY:Fête du Grand Norven
DESCRIPTION:Navigation à Dumet pour le pique-nique puis Piriac pour la fê
 te du Grand Norven.\n\nApéro à Dumet et repas le soir à Piriac offerts\
 n\nChef de Bord : Jean-Christophe\n\nRDV devant la capitainerie de Merquel
  à 8h45 pour un embarquement à 9h00
CATEGORIES:Manifestation
END:VEVENT
END:VCALENDAR