BEGIN:VCALENDAR
VERSION:2.0
PRODID:-//wp-events-plugin.com//6.6.4.4//EN
TZID:Europe/Paris
X-WR-TIMEZONE:Europe/Paris
BEGIN:VEVENT
UID:476@ledefidutraict.fr
DTSTART;TZID=Europe/Paris:20230416T143000
DTEND;TZID=Europe/Paris:20230416T160000
DTSTAMP:20230406T154811Z
URL:http://www.ledefidutraict.fr/events/mise-a-leau-2/
SUMMARY:Mise à l'eau
DESCRIPTION:Mise à l'eau du Traict\n\nRDV à 14h30 à l'atelier de Fred ou
  à 15h00 sur la cale de Kercabellec
CATEGORIES:Navigation
END:VEVENT
BEGIN:VTIMEZONE
TZID:Europe/Paris
X-LIC-LOCATION:Europe/Paris
BEGIN:DAYLIGHT
DTSTART:20230326T030000
TZOFFSETFROM:+0100
TZOFFSETTO:+0200
TZNAME:CEST
END:DAYLIGHT
END:VTIMEZONE
END:VCALENDAR