BEGIN:VCALENDAR
VERSION:2.0
PRODID:-//wp-events-plugin.com//6.6.4.4//EN
TZID:Europe/Paris
X-WR-TIMEZONE:Europe/Paris
BEGIN:VEVENT
UID:558@ledefidutraict.fr
DTSTART;TZID=Europe/Paris:20240427T090000
DTEND;TZID=Europe/Paris:20240427T113000
DTSTAMP:20240424T164735Z
URL:http://www.ledefidutraict.fr/events/navigation-de-la-yole-2/
SUMMARY:navigation de la Yole
DESCRIPTION:Chef de Bord : Mike Newmeyer.\n\nNavigation d'entraînement de 
 9h à 11h30.\n\nRDV sur la pointe de Merquel\, devant la maison du passeur
 .\n\nPour toute information\, contacter Mike au 06 33 10 03 20.\n\nnavigat
 ion  ouverte aux adhérents uniquement. Pour adhérer : http://www.ledefi
 dutraict.fr/lassociation/adherer-en-ligne/
CATEGORIES:Navigation
END:VEVENT
BEGIN:VTIMEZONE
TZID:Europe/Paris
X-LIC-LOCATION:Europe/Paris
BEGIN:DAYLIGHT
DTSTART:20240331T030000
TZOFFSETFROM:+0100
TZOFFSETTO:+0200
TZNAME:CEST
END:DAYLIGHT
END:VTIMEZONE
END:VCALENDAR