BEGIN:VCALENDAR
VERSION:2.0
PRODID:-//wp-events-plugin.com//6.6.4.4//EN
TZID:Europe/Paris
X-WR-TIMEZONE:Europe/Paris
BEGIN:VEVENT
UID:484@ledefidutraict.fr
DTSTART;TZID=Europe/Paris:20230527T133000
DTEND;TZID=Europe/Paris:20230527T163000
DTSTAMP:20230419T151726Z
URL:http://www.ledefidutraict.fr/events/navigation-entrainement-12/
SUMMARY:Navigation "entrainement"
DESCRIPTION:Navigation "entrainement" ouverte à tous : expérimentés et n
 ovices.\n\nChef de Bord : JC Lenormand\n\nRendez-vous 13h15 au Yoling Club
  (atelier de Fred\, ZA de Kergoulinet)
CATEGORIES:Navigation
END:VEVENT
BEGIN:VTIMEZONE
TZID:Europe/Paris
X-LIC-LOCATION:Europe/Paris
BEGIN:DAYLIGHT
DTSTART:20230326T030000
TZOFFSETFROM:+0100
TZOFFSETTO:+0200
TZNAME:CEST
END:DAYLIGHT
END:VTIMEZONE
END:VCALENDAR