BEGIN:VCALENDAR
VERSION:2.0
PRODID:-//wp-events-plugin.com//6.6.4.4//EN
TZID:Europe/Paris
X-WR-TIMEZONE:Europe/Paris
BEGIN:VEVENT
UID:69@ledefidutraict.fr
DTSTART:20150628T093000Z
DTEND:20150628T140000Z
DTSTAMP:20150525T213350Z
URL:http://www.ledefidutraict.fr/events/navigation-entrainement-2/
SUMMARY:Navigation & sortie de l'eau
DESCRIPTION:navigation à la journée\, prévoir Pique-nique.\n\nSortie de 
 l'eau vers 15h à Kercabellec\n\nChef de Bord : Fred\n\nRDV à Merquel à
  10h15
CATEGORIES:Navigation
END:VEVENT
END:VCALENDAR