BEGIN:VCALENDAR
VERSION:2.0
PRODID:-//wp-events-plugin.com//6.6.4.4//EN
TZID:Europe/Paris
X-WR-TIMEZONE:Europe/Paris
BEGIN:VEVENT
UID:294@ledefidutraict.fr
DTSTART;VALUE=DATE:20190827
DTEND;VALUE=DATE:20190830
DTSTAMP:20190410T221708Z
URL:http://www.ledefidutraict.fr/events/navigation-espace-jeunes-de-mesque
 r/
SUMMARY:Navigation Espace Jeunes de Mesquer
DESCRIPTION:2 sorties seront organisées pour les ados de l'espace Jeunes d
 e Mesquer (dates et horaires à confirmer).\n\nIl faudra 3 ou 4 équipiers
  confirmés pour l'encadrement.\n\nNous contacter par mail si vous êtes d
 isponible.
CATEGORIES:Autre
END:VEVENT
END:VCALENDAR