BEGIN:VCALENDAR
VERSION:2.0
PRODID:-//wp-events-plugin.com//6.6.4.4//EN
TZID:Europe/Paris
X-WR-TIMEZONE:Europe/Paris
BEGIN:VEVENT
UID:153@ledefidutraict.fr
DTSTART:20160911T124500Z
DTEND:20160911T170000Z
DTSTAMP:20160907T101305Z
URL:http://www.ledefidutraict.fr/events/navigation-le-traict-14/
SUMMARY:Navigation Le Traict
DESCRIPTION:Navigation a confirmer mais inscrivez-vous si vous êtes interr
 essé\, Fred vous confirmera sa dispo vendredi\n\nRDV à 13h45 à Merquel\
 n\nChef de Bord : Fred
CATEGORIES:Navigation
END:VEVENT
END:VCALENDAR