BEGIN:VCALENDAR
VERSION:2.0
PRODID:-//wp-events-plugin.com//6.6.4.4//EN
TZID:Europe/Paris
X-WR-TIMEZONE:Europe/Paris
BEGIN:VEVENT
UID:3@ledefidutraict.fr
DTSTART:20140713T070000Z
DTEND:20140714T070000Z
DTSTAMP:20140708T213354Z
URL:http://www.ledefidutraict.fr/events/navigation-piriac-sene/
SUMMARY:Navigation Piriac-Séné
DESCRIPTION:Navigation de 2 jours de Piriac à Séné (Vannes) avec escale 
 le soir à Houat ou Hoëdic\n\nRéservé aux adhérents de l'association\n
 \nLaissez votre N° de téléphone car il faudra s'organiser pour les cour
 ses et pour laisser des véhicules à Séné.\n\nChef de bord : Fred Godin
CATEGORIES:Navigation
END:VEVENT
END:VCALENDAR