BEGIN:VCALENDAR
VERSION:2.0
PRODID:-//wp-events-plugin.com//6.6.4.4//EN
TZID:Europe/Paris
X-WR-TIMEZONE:Europe/Paris
BEGIN:VEVENT
UID:660@ledefidutraict.fr
DTSTART;TZID=Europe/Paris:20250914T100000
DTEND;TZID=Europe/Paris:20250914T180000
DTSTAMP:20250906T115708Z
URL:http://www.ledefidutraict.fr/events/navigation-sur-le-traict-14-septem
 bre/
SUMMARY:Navigation sur Le Traict - 14 septembre
DESCRIPTION:Navigation de 10h à 18h\n\nRDV  à 10h l'atelier de Fred (ZAC
  de Kergoulinet\, derrière la caserne des pompiers).\n\nPour plus de pré
 cisions\, contacter le chef de bord\, Fredéric Godin. 06 82 44 38 11\n\n&
 nbsp\;\n\nNavigation  ouverte aux adhérents uniquement. Pour adhérer : 
 http://www.ledefidutraict.fr/lassociation/adherer-en-ligne/\n\nDes brassi
 ères sont fournies mais vous pouvez aussi venir avec votre brassière per
 sonnelle.
CATEGORIES:Navigation
END:VEVENT
BEGIN:VTIMEZONE
TZID:Europe/Paris
X-LIC-LOCATION:Europe/Paris
BEGIN:DAYLIGHT
DTSTART:20250330T030000
TZOFFSETFROM:+0100
TZOFFSETTO:+0200
TZNAME:CEST
END:DAYLIGHT
END:VTIMEZONE
END:VCALENDAR