BEGIN:VCALENDAR
VERSION:2.0
PRODID:-//wp-events-plugin.com//6.6.4.4//EN
TZID:Europe/Paris
X-WR-TIMEZONE:Europe/Paris
BEGIN:VEVENT
UID:244@ledefidutraict.fr
DTSTART:20180527T130000Z
DTEND:20180527T170000Z
DTSTAMP:20180505T210629Z
URL:http://www.ledefidutraict.fr/events/navigation-sur-le-traict-15/
SUMMARY:Navigation sur le Traict
DESCRIPTION:Navigation sur le Traict\n\nRDV à Merquel à 13h45 pour un emb
 arquement à 14h00\n\nRetour entre 18h et 19h\n\nChef de Bord : Fred
CATEGORIES:Navigation
END:VEVENT
END:VCALENDAR