BEGIN:VCALENDAR
VERSION:2.0
PRODID:-//wp-events-plugin.com//6.6.4.4//EN
TZID:Europe/Paris
X-WR-TIMEZONE:Europe/Paris
BEGIN:VEVENT
UID:658@ledefidutraict.fr
DTSTART;TZID=Europe/Paris:20250906T110000
DTEND;TZID=Europe/Paris:20250906T180000
DTSTAMP:20250906T115438Z
URL:http://www.ledefidutraict.fr/events/navigation-sur-le-traict-16-aout-2
 /
SUMMARY:Navigation sur Le Traict - 7 septembre
DESCRIPTION:Navigation de 11h à 17h30\n\nRDV  à 11h l'atelier de Fred (Z
 AC de Kergoulinet\, derrière la caserne des pompiers).\n\nPour plus de pr
 écisions\, contacter le chef de bord\, Fredéric Godin. 06 82 44 38 11\n\
 n&nbsp\;\n\nNavigation  ouverte aux adhérents uniquement. Pour adhérer 
 : http://www.ledefidutraict.fr/lassociation/adherer-en-ligne/\n\nDes brass
 ières sont fournies mais vous pouvez aussi venir avec votre brassière pe
 rsonnelle.
CATEGORIES:Navigation
END:VEVENT
BEGIN:VTIMEZONE
TZID:Europe/Paris
X-LIC-LOCATION:Europe/Paris
BEGIN:DAYLIGHT
DTSTART:20250330T030000
TZOFFSETFROM:+0100
TZOFFSETTO:+0200
TZNAME:CEST
END:DAYLIGHT
END:VTIMEZONE
END:VCALENDAR