BEGIN:VCALENDAR
VERSION:2.0
PRODID:-//wp-events-plugin.com//6.6.4.4//EN
TZID:Europe/Paris
X-WR-TIMEZONE:Europe/Paris
BEGIN:VEVENT
UID:378@ledefidutraict.fr
DTSTART;TZID=Europe/Paris:20210919T140000
DTEND;TZID=Europe/Paris:20210919T180000
DTSTAMP:20210917T071711Z
URL:http://www.ledefidutraict.fr/events/navigation-sur-le-traict-44/
SUMMARY:Navigation sur le Traict
DESCRIPTION:Navigation sur le Traict de 14h à 18h\n\nRendez-vous à 13h45 
 devant la capitainerie du mouillage de Merquel.\n\nChef de Bord : Gilles
CATEGORIES:Navigation
END:VEVENT
BEGIN:VTIMEZONE
TZID:Europe/Paris
X-LIC-LOCATION:Europe/Paris
BEGIN:DAYLIGHT
DTSTART:20210328T030000
TZOFFSETFROM:+0100
TZOFFSETTO:+0200
TZNAME:CEST
END:DAYLIGHT
END:VTIMEZONE
END:VCALENDAR