BEGIN:VCALENDAR
VERSION:2.0
PRODID:-//wp-events-plugin.com//6.6.4.4//EN
TZID:Europe/Paris
X-WR-TIMEZONE:Europe/Paris
BEGIN:VEVENT
UID:201@ledefidutraict.fr
DTSTART:20170709T133000Z
DTEND:20170709T180000Z
DTSTAMP:20170705T200250Z
URL:http://www.ledefidutraict.fr/events/navigation-sur-le-traict-8/
SUMMARY:Navigation sur le Traict
DESCRIPTION:Navigation sur le Traict\n\nRDV devant la capitainerie de Merqu
 el à 14h15 pour un embarquement à 14h30.\n\nChef de bord : Gilles Le Rou
 x
CATEGORIES:Navigation
END:VEVENT
END:VCALENDAR