BEGIN:VCALENDAR
VERSION:2.0
PRODID:-//wp-events-plugin.com//6.6.4.4//EN
TZID:Europe/Paris
X-WR-TIMEZONE:Europe/Paris
BEGIN:VEVENT
UID:368@ledefidutraict.fr
DTSTART;TZID=Europe/Paris:20210627T100000
DTEND;TZID=Europe/Paris:20210627T160000
DTSTAMP:20210625T175124Z
URL:http://www.ledefidutraict.fr/events/navigation-sur-le-traict-entrainem
 ent-6/
SUMMARY:Navigation sur Le Traict
DESCRIPTION:NAVIGATION ANNULÉ\n\nNavigation de 10h à 16h (environ) - pr
 évoir un pique-nique\n\nRDV devant la capitainerie de Merquel à 9h45\n\n
 Chef de Bord : Gilles Le Roux\n\n&nbsp\;
CATEGORIES:Navigation annulée
END:VEVENT
BEGIN:VTIMEZONE
TZID:Europe/Paris
X-LIC-LOCATION:Europe/Paris
BEGIN:DAYLIGHT
DTSTART:20210328T030000
TZOFFSETFROM:+0100
TZOFFSETTO:+0200
TZNAME:CEST
END:DAYLIGHT
END:VTIMEZONE
END:VCALENDAR