BEGIN:VCALENDAR
VERSION:2.0
PRODID:-//wp-events-plugin.com//6.6.4.4//EN
TZID:Europe/Paris
X-WR-TIMEZONE:Europe/Paris
BEGIN:VEVENT
UID:61@ledefidutraict.fr
DTSTART:20150505T081500Z
DTEND:20150505T150000Z
DTSTAMP:20150504T154034Z
URL:http://www.ledefidutraict.fr/events/operation-calfa/
SUMMARY:Opération calfa !
DESCRIPTION:RDV à 9h15 à Merquel.\n\nLe but est d'amener la yole sur la p
 lage des Épis pour l'échouer et contrôler le calfa et le mastic. L'opé
 ration devrait durer 1 ou 2 heures.\n\nPrévoir le retour sur la bouée ve
 rs 16h.\n\nPour tout renseignement : Jean-Christophe 06 63 72 09 65
CATEGORIES:Autre
END:VEVENT
END:VCALENDAR