BEGIN:VCALENDAR
VERSION:2.0
PRODID:-//wp-events-plugin.com//6.6.4.4//EN
TZID:Europe/Paris
X-WR-TIMEZONE:Europe/Paris
BEGIN:VEVENT
UID:241@ledefidutraict.fr
DTSTART;VALUE=DATE:20180616
DTEND;VALUE=DATE:20180618
DTSTAMP:20180604T163856Z
URL:http://www.ledefidutraict.fr/events/raid-beg-meil-les-glenan-en-ness-a
 vec-peillac/
SUMMARY:Raid  Beg Meil - Les Glénan en Ness avec Peillac
DESCRIPTION:Le Yoling Club de Peillac organise un WE Beg Meil - Les Glénan
  avec leurs 3 Yoles de Ness les 16 &amp\; 17 juin.\n\nOn va les accompagne
 r avec le Héron de Mesquer !\n\nDépart (probable) vendredi soir\, retour
  dimanche soir.\n\nPour la logistique\, il faudra prévoir les repas et le
  partage des frais d'essence.\n\nChef de Bord : Alain Gabriel\n\nLe Héron
  est complet !\n\nPossibilité de participer en plus avec le Traict si suf
 fisamment de monde (chef de bord : Fred)\n\n&nbsp\;\n\n&nbsp\;
CATEGORIES:Navigation
END:VEVENT
END:VCALENDAR