BEGIN:VCALENDAR
VERSION:2.0
PRODID:-//wp-events-plugin.com//6.6.4.4//EN
TZID:Europe/Paris
X-WR-TIMEZONE:Europe/Paris
BEGIN:VEVENT
UID:86@ledefidutraict.fr
DTSTART:20151108T083000Z
DTEND:20151108T120000Z
DTSTAMP:20151014T171339Z
URL:http://www.ledefidutraict.fr/events/rangement-local/
SUMMARY:Rangement local
DESCRIPTION:En prévision des futurs travaux d'entretien hivernal\, matiné
 e (ou journée selon les dispos et besoins) rangement du local des atelier
 s\, inventaire du matériel et vérification des amarres des petits bateau
 x.\n\nRDV à 9h30 aux ateliers municipaux
CATEGORIES:Autre
END:VEVENT
END:VCALENDAR