BEGIN:VCALENDAR
VERSION:2.0
PRODID:-//wp-events-plugin.com//6.6.4.4//EN
TZID:Europe/Paris
X-WR-TIMEZONE:Europe/Paris
BEGIN:VEVENT
UID:27@ledefidutraict.fr
DTSTART:20141215T193000Z
DTEND:20141215T213000Z
DTSTAMP:20141122T132216Z
URL:http://www.ledefidutraict.fr/events/reunion-bois-sale/
SUMMARY:Réunion Bois Salé
DESCRIPTION:Première réunion pour commencer à Organiser le prochain fest
 ival du Bois Salé.\n\n20h30 à la salle des expos (en face de la mairie)
CATEGORIES:Réunion
END:VEVENT
END:VCALENDAR