BEGIN:VCALENDAR
VERSION:2.0
PRODID:-//wp-events-plugin.com//6.6.4.4//EN
TZID:Europe/Paris
X-WR-TIMEZONE:Europe/Paris
BEGIN:VEVENT
UID:160@ledefidutraict.fr
DTSTART:20161119T090000Z
DTEND:20161119T120000Z
DTSTAMP:20161110T195236Z
URL:http://www.ledefidutraict.fr/events/reunion-planification-des-travaux-
 dhivers/
SUMMARY:Réunion planification des travaux d'hiver
DESCRIPTION:Réunion pour planifier les travaux d'hiver et faire l'inventai
 re du matériel.\n\nRDV aux ateliers municipaux à Mesquer à 10h00
CATEGORIES:Réunion
END:VEVENT
END:VCALENDAR