BEGIN:VCALENDAR
VERSION:2.0
PRODID:-//wp-events-plugin.com//6.6.4.4//EN
TZID:Europe/Paris
X-WR-TIMEZONE:Europe/Paris
BEGIN:VEVENT
UID:55@ledefidutraict.fr
DTSTART:20150405T093000Z
DTEND:20150405T160000Z
DTSTAMP:20150331T210306Z
URL:http://www.ledefidutraict.fr/events/travaux-sur-la-yole-3/
SUMMARY:Travaux sur la yole
DESCRIPTION:De 10h30 à 17h aux ateliers municipaux\n\nJournée de travaux 
 sur la yole avec Barbecue à midi (les saucisses sont offertes !).\n\nCha
 cun amène un petit quelques chose et ses couverts.\n\nMerci de vous inscr
 ire rapidement pour l'organisation.\n\nÀ dimanche !
CATEGORIES:Autre
END:VEVENT
END:VCALENDAR