BEGIN:VCALENDAR
VERSION:2.0
PRODID:-//wp-events-plugin.com//6.6.4.4//EN
TZID:Europe/Paris
X-WR-TIMEZONE:Europe/Paris
BEGIN:VEVENT
UID:331@ledefidutraict.fr
DTSTART:20200618T160000Z
DTEND:20200618T180000Z
DTSTAMP:20200616T210629Z
URL:http://www.ledefidutraict.fr/events/travaux-sur-le-traict-2/
SUMMARY:Travaux sur le Traict
DESCRIPTION:Séance de travaux sur la Yole Le Traict.\n\nOuvert à tout le 
 monde\, même aux non bricoleurs\, majoritairement du ponçage\, peinture 
 &amp\; vernis.\n\nRDV aux ateliers municipaux\n\nResponsable : Jean-Christ
 ophe
CATEGORIES:Autre
END:VEVENT
END:VCALENDAR