BEGIN:VCALENDAR
VERSION:2.0
PRODID:-//wp-events-plugin.com//6.6.4.4//EN
TZID:Europe/Paris
X-WR-TIMEZONE:Europe/Paris
BEGIN:VEVENT
UID:465@ledefidutraict.fr
DTSTART;TZID=Europe/Paris:20230401T093000
DTEND;TZID=Europe/Paris:20230401T130000
DTSTAMP:20230325T225456Z
URL:http://www.ledefidutraict.fr/events/travaux-sur-le-traict-26/
SUMMARY:Travaux sur le Traict
DESCRIPTION:Travaux d'entretien (peinture\, huile\, etc.) avant la mise à 
 l'eau.
CATEGORIES:Autre
END:VEVENT
BEGIN:VTIMEZONE
TZID:Europe/Paris
X-LIC-LOCATION:Europe/Paris
BEGIN:DAYLIGHT
DTSTART:20230326T030000
TZOFFSETFROM:+0100
TZOFFSETTO:+0200
TZNAME:CEST
END:DAYLIGHT
END:VTIMEZONE
END:VCALENDAR