BEGIN:VCALENDAR
VERSION:2.0
PRODID:-//wp-events-plugin.com//6.6.4.4//EN
TZID:Europe/Paris
X-WR-TIMEZONE:Europe/Paris
BEGIN:VEVENT
UID:466@ledefidutraict.fr
DTSTART;TZID=Europe/Paris:20230318T100000
DTEND;TZID=Europe/Paris:20230318T170000
DTSTAMP:20230306T103257Z
URL:http://www.ledefidutraict.fr/events/travaux-sur-le-traict-27/
SUMMARY:Travaux sur le Traict
DESCRIPTION:Travaux d'entretien (peinture\, huile\, etc.) avant la mise à 
 l'eau.\n\nPique-nique offert par l'association
CATEGORIES:Autre
END:VEVENT
BEGIN:VTIMEZONE
TZID:Europe/Paris
X-LIC-LOCATION:Europe/Paris
BEGIN:STANDARD
DTSTART:20221030T020000
TZOFFSETFROM:+0200
TZOFFSETTO:+0100
TZNAME:CET
END:STANDARD
END:VTIMEZONE
END:VCALENDAR